BEGIN:VCALENDAR
VERSION:2.0
PRODID:-//OFFGRIDSHOP - ECPv6.15.20//NONSGML v1.0//EN
CALSCALE:GREGORIAN
METHOD:PUBLISH
X-WR-CALNAME:OFFGRIDSHOP
X-ORIGINAL-URL:https://www.offgridshop.eu
X-WR-CALDESC:Veranstaltungen für OFFGRIDSHOP
REFRESH-INTERVAL;VALUE=DURATION:PT1H
X-Robots-Tag:noindex
X-PUBLISHED-TTL:PT1H
BEGIN:VTIMEZONE
TZID:Europe/Vienna
BEGIN:DAYLIGHT
TZOFFSETFROM:+0100
TZOFFSETTO:+0200
TZNAME:CEST
DTSTART:20240331T010000
END:DAYLIGHT
BEGIN:STANDARD
TZOFFSETFROM:+0200
TZOFFSETTO:+0100
TZNAME:CET
DTSTART:20241027T010000
END:STANDARD
BEGIN:DAYLIGHT
TZOFFSETFROM:+0100
TZOFFSETTO:+0200
TZNAME:CEST
DTSTART:20250330T010000
END:DAYLIGHT
BEGIN:STANDARD
TZOFFSETFROM:+0200
TZOFFSETTO:+0100
TZNAME:CET
DTSTART:20251026T010000
END:STANDARD
BEGIN:DAYLIGHT
TZOFFSETFROM:+0100
TZOFFSETTO:+0200
TZNAME:CEST
DTSTART:20260329T010000
END:DAYLIGHT
BEGIN:STANDARD
TZOFFSETFROM:+0200
TZOFFSETTO:+0100
TZNAME:CET
DTSTART:20261025T010000
END:STANDARD
END:VTIMEZONE
BEGIN:VEVENT
DTSTART;TZID=Europe/Vienna:20251001T100000
DTEND;TZID=Europe/Vienna:20251001T130000
DTSTAMP:20260422T132220
CREATED:20250821T114925Z
LAST-MODIFIED:20250901T101702Z
UID:42461-1759312800-1759323600@www.offgridshop.eu
SUMMARY:Basisschulung ESS-Pakete
DESCRIPTION:Victron Energy ESS Schulung – Basic mit Fokus auf ESS-Pakete:  \nEnergiespeichersysteme (ESS) mit Victron Energy: Was ist ein ESS\, wie funktioniert es\, wie wird es aufgebaut?\nBesonderer Fokus wird bei dieser Schulung auf die fertig konfektionierten offgridshop.eu ESS-Pakete\, deren Anwendung und Möglichkeiten gelegt\, es werden aber auch alle notwendigen Basics zu Victron Energy ESS vermittelt. \nSchulungsinhalte:  \n\nVictron Energy ESS – Funktion und Aufbau\nKonfiguration und Monitoring\nZYC Energy 48V-Batterien\noffgridshop.eu ESS-Pakete\n\nZeitplan:  \n\n09:00-10:00 Einlass und Frühstück\n10:00-13:00 Schulung\n13:00-14:30 Zeit für persönliche Fragen und Gespräche im Showroom\n\nDiese Schulung richtet sich an gewerbliche Installateure\, die keine oder nur wenig Erfahrung mit ESS haben. Endbenutzer sind nicht zugelassen\, für die Teilnahme wird ein B2B-Account auf offgridshop.eu vorausgesetzt (hier beantragen). \nVor Schulungsbeginn steht ein kleiner Snack zur Verfügung\, kommen Sie gern etwas früher und besuchen Sie unseren Showroom (Einlass und Frühstück ab 09:00).\nWir führen Sie mit ausreichend Zeit für allgemeine Fragen an Aufbau und Konfiguration von Victron Energy ESS heran und erklären die Vorteile\, die ein solches System für Ihre Kunden mit sich bringt. Nach Schulungsende stehen wir für Detailfragen zur Verfügung. \nEinen tieferen Blick in die Materie und Zeit für detaillierte Fragen bietet unsere auf diese Schulung aufbauende Victron Energy ESS Schulung – Advanced. \nFür Getränke und Verpflegung ist gesorgt\, Reise- und Unterbringung ist selbst zu organisieren. Parkplätze sind ausreichend vorhanden\, gerne unterstützen wir auf Wunsch beim Transport zur Schulung von Haltestellen öffentlicher Verkehrsmittel und bei der Suche nach Hotels. \n\nACHTUNG: Limitierte Teilnehmerzahl\, für Teilnahme bitte anfragen: \nBitte aktiviere JavaScript in deinem Browser\, um dieses Formular fertigzustellen.Mögliche Termine *Victron Energy MARINE & AUTOMOTIVE - 23.04.2026 - 09:30-16:00RAYMARINE (externer Anbieter) - 24.04.2026 - 09:30-16:00Victron Energy ESS ADVANCED - 21.05.2026 - 11:00-16:00Victron Energy ESS BASIC - 18.06.2026 - 11:00-16:00Victron Energy ESS BASIC - 10.09.2026 - 11:00-16:00Victron Energy ESS ADVANCED - 08.10.2026 - 11:00-16:00Victron Energy ESS BASIC - 06.11.2026 - 11:00-16:00Name *VornameNachnameFirmenname *Website		\n			Kommentar E-Mail-Adresse Event:\n			\n		\n		E-Mail-Adresse *Telefonnummer *Kommentar oder NachrichtKenntnisnahme der Regelung bei Nicht-Erscheinen *Mir ist bekannt\, dass bei Nichterscheinen ohne Absage 24h vor Schulungsbeginn ein Unkostenbeitrag von 100€ zzgl. MwSt. zu entrichten ist. Sagen Sie bei Nichterscheinen rechtzeitig ab und geben Sie anderen Personen die Möglichkeit\, die Schulung zu besuchen!DSGVO-Einverständnis *Ich willige ein\, dass die Sailectron Services GmbH meine übermittelten Informationen speichert und verarbeitet\, sodass meine Schulungsanmeldung beantwortet werden kann.Teilnahme anfragen
URL:https://www.offgridshop.eu/event/basisschulung-ess-pakete-20251001/
LOCATION:Victron Energy Experience Center Graz / Gratwein\, Hundsdorf 2\, Judendorf-Straßengel\, 8111\, Österreich
CATEGORIES:Schulung
ATTACH;FMTTYPE=image/jpeg:https://www.offgridshop.eu/wp-content/uploads/2023/12/OGS-Symbol_Schulung.jpg
ORGANIZER;CN="Offgridshop.eu - Sailectron Services GmbH":MAILTO:info@offgridshop.eu
END:VEVENT
BEGIN:VEVENT
DTSTART;TZID=Europe/Vienna:20251002T100000
DTEND;TZID=Europe/Vienna:20251002T130000
DTSTAMP:20260422T132220
CREATED:20250901T101354Z
LAST-MODIFIED:20250901T101613Z
UID:42580-1759399200-1759410000@www.offgridshop.eu
SUMMARY:Basisschulung ESS-Pakete
DESCRIPTION:Victron Energy ESS Schulung – Basic mit Fokus auf ESS-Pakete:  \nEnergiespeichersysteme (ESS) mit Victron Energy: Was ist ein ESS\, wie funktioniert es\, wie wird es aufgebaut?\nBesonderer Fokus wird bei dieser Schulung auf die fertig konfektionierten offgridshop.eu ESS-Pakete\, deren Anwendung und Möglichkeiten gelegt\, es werden aber auch alle notwendigen Basics zu Victron Energy ESS vermittelt. \nSchulungsinhalte:  \n\nVictron Energy ESS – Funktion und Aufbau\nKonfiguration und Monitoring\nZYC Energy 48V-Batterien\noffgridshop.eu ESS-Pakete\n\nZeitplan:  \n\n09:00-10:00 Einlass und Frühstück\n10:00-13:00 Schulung\n13:00-14:30 Zeit für persönliche Fragen und Gespräche im Showroom\n\nDiese Schulung richtet sich an gewerbliche Installateure\, die keine oder nur wenig Erfahrung mit ESS haben. Endbenutzer sind nicht zugelassen\, für die Teilnahme wird ein B2B-Account auf offgridshop.eu vorausgesetzt (hier beantragen). \nVor Schulungsbeginn steht ein kleiner Snack zur Verfügung\, kommen Sie gern etwas früher und besuchen Sie unseren Showroom (Einlass und Frühstück ab 09:00).\nWir führen Sie mit ausreichend Zeit für allgemeine Fragen an Aufbau und Konfiguration von Victron Energy ESS heran und erklären die Vorteile\, die ein solches System für Ihre Kunden mit sich bringt. Nach Schulungsende stehen wir für Detailfragen zur Verfügung. \nEinen tieferen Blick in die Materie und Zeit für detaillierte Fragen bietet unsere auf diese Schulung aufbauende Victron Energy ESS Schulung – Advanced. \nFür Getränke und Verpflegung ist gesorgt\, Reise- und Unterbringung ist selbst zu organisieren. Parkplätze sind ausreichend vorhanden\, gerne unterstützen wir auf Wunsch beim Transport zur Schulung von Haltestellen öffentlicher Verkehrsmittel und bei der Suche nach Hotels. \n\nACHTUNG: Limitierte Teilnehmerzahl\, für Teilnahme bitte anfragen: \nBitte aktiviere JavaScript in deinem Browser\, um dieses Formular fertigzustellen.Mögliche Termine *Victron Energy MARINE & AUTOMOTIVE - 23.04.2026 - 09:30-16:00RAYMARINE (externer Anbieter) - 24.04.2026 - 09:30-16:00Victron Energy ESS ADVANCED - 21.05.2026 - 11:00-16:00Victron Energy ESS BASIC - 18.06.2026 - 11:00-16:00Victron Energy ESS BASIC - 10.09.2026 - 11:00-16:00Victron Energy ESS ADVANCED - 08.10.2026 - 11:00-16:00Victron Energy ESS BASIC - 06.11.2026 - 11:00-16:00Name *VornameNachnameFirmenname *WebsiteE-Mail-Adresse *Telefonnummer *Kommentar oder Nachricht		\n			Kenntnisnahme Firmenname DSGVO-Einverständnis\n			\n		\n		Kenntnisnahme der Regelung bei Nicht-Erscheinen *Mir ist bekannt\, dass bei Nichterscheinen ohne Absage 24h vor Schulungsbeginn ein Unkostenbeitrag von 100€ zzgl. MwSt. zu entrichten ist. Sagen Sie bei Nichterscheinen rechtzeitig ab und geben Sie anderen Personen die Möglichkeit\, die Schulung zu besuchen!DSGVO-Einverständnis *Ich willige ein\, dass die Sailectron Services GmbH meine übermittelten Informationen speichert und verarbeitet\, sodass meine Schulungsanmeldung beantwortet werden kann.Teilnahme anfragen
URL:https://www.offgridshop.eu/event/basisschulung-ess-pakete-20251002/
LOCATION:Victron Energy Experience Center Graz / Gratwein\, Hundsdorf 2\, Judendorf-Straßengel\, 8111\, Österreich
CATEGORIES:Schulung
ATTACH;FMTTYPE=image/jpeg:https://www.offgridshop.eu/wp-content/uploads/2023/12/OGS-Symbol_Schulung.jpg
ORGANIZER;CN="Offgridshop.eu - Sailectron Services GmbH":MAILTO:info@offgridshop.eu
END:VEVENT
BEGIN:VEVENT
DTSTART;TZID=Europe/Vienna:20251003T100000
DTEND;TZID=Europe/Vienna:20251003T130000
DTSTAMP:20260422T132220
CREATED:20250901T101358Z
LAST-MODIFIED:20250901T101621Z
UID:42581-1759485600-1759496400@www.offgridshop.eu
SUMMARY:Basisschulung ESS-Pakete
DESCRIPTION:Victron Energy ESS Schulung – Basic mit Fokus auf ESS-Pakete:  \nEnergiespeichersysteme (ESS) mit Victron Energy: Was ist ein ESS\, wie funktioniert es\, wie wird es aufgebaut?\nBesonderer Fokus wird bei dieser Schulung auf die fertig konfektionierten offgridshop.eu ESS-Pakete\, deren Anwendung und Möglichkeiten gelegt\, es werden aber auch alle notwendigen Basics zu Victron Energy ESS vermittelt. \nSchulungsinhalte:  \n\nVictron Energy ESS – Funktion und Aufbau\nKonfiguration und Monitoring\nZYC Energy 48V-Batterien\noffgridshop.eu ESS-Pakete\n\nZeitplan:  \n\n09:00-10:00 Einlass und Frühstück\n10:00-13:00 Schulung\n13:00-14:30 Zeit für persönliche Fragen und Gespräche im Showroom\n\nDiese Schulung richtet sich an gewerbliche Installateure\, die keine oder nur wenig Erfahrung mit ESS haben. Endbenutzer sind nicht zugelassen\, für die Teilnahme wird ein B2B-Account auf offgridshop.eu vorausgesetzt (hier beantragen). \nVor Schulungsbeginn steht ein kleiner Snack zur Verfügung\, kommen Sie gern etwas früher und besuchen Sie unseren Showroom (Einlass und Frühstück ab 09:00).\nWir führen Sie mit ausreichend Zeit für allgemeine Fragen an Aufbau und Konfiguration von Victron Energy ESS heran und erklären die Vorteile\, die ein solches System für Ihre Kunden mit sich bringt. Nach Schulungsende stehen wir für Detailfragen zur Verfügung. \nEinen tieferen Blick in die Materie und Zeit für detaillierte Fragen bietet unsere auf diese Schulung aufbauende Victron Energy ESS Schulung – Advanced. \nFür Getränke und Verpflegung ist gesorgt\, Reise- und Unterbringung ist selbst zu organisieren. Parkplätze sind ausreichend vorhanden\, gerne unterstützen wir auf Wunsch beim Transport zur Schulung von Haltestellen öffentlicher Verkehrsmittel und bei der Suche nach Hotels. \n\nACHTUNG: Limitierte Teilnehmerzahl\, für Teilnahme bitte anfragen: \nBitte aktiviere JavaScript in deinem Browser\, um dieses Formular fertigzustellen.Mögliche Termine *Victron Energy MARINE & AUTOMOTIVE - 23.04.2026 - 09:30-16:00RAYMARINE (externer Anbieter) - 24.04.2026 - 09:30-16:00Victron Energy ESS ADVANCED - 21.05.2026 - 11:00-16:00Victron Energy ESS BASIC - 18.06.2026 - 11:00-16:00Victron Energy ESS BASIC - 10.09.2026 - 11:00-16:00Victron Energy ESS ADVANCED - 08.10.2026 - 11:00-16:00Victron Energy ESS BASIC - 06.11.2026 - 11:00-16:00Name *VornameNachnameFirmenname *WebsiteE-Mail-Adresse *		\n			bei Mögliche Kommentar\n			\n		\n		Telefonnummer *Kommentar oder NachrichtKenntnisnahme der Regelung bei Nicht-Erscheinen *Mir ist bekannt\, dass bei Nichterscheinen ohne Absage 24h vor Schulungsbeginn ein Unkostenbeitrag von 100€ zzgl. MwSt. zu entrichten ist. Sagen Sie bei Nichterscheinen rechtzeitig ab und geben Sie anderen Personen die Möglichkeit\, die Schulung zu besuchen!DSGVO-Einverständnis *Ich willige ein\, dass die Sailectron Services GmbH meine übermittelten Informationen speichert und verarbeitet\, sodass meine Schulungsanmeldung beantwortet werden kann.Teilnahme anfragen
URL:https://www.offgridshop.eu/event/basisschulung-ess-pakete-20251003/
LOCATION:Victron Energy Experience Center Graz / Gratwein\, Hundsdorf 2\, Judendorf-Straßengel\, 8111\, Österreich
CATEGORIES:Schulung
ATTACH;FMTTYPE=image/jpeg:https://www.offgridshop.eu/wp-content/uploads/2023/12/OGS-Symbol_Schulung.jpg
ORGANIZER;CN="Offgridshop.eu - Sailectron Services GmbH":MAILTO:info@offgridshop.eu
END:VEVENT
END:VCALENDAR