BEGIN:VCALENDAR
VERSION:2.0
PRODID:-//OFFGRIDSHOP - ECPv6.15.20//NONSGML v1.0//EN
CALSCALE:GREGORIAN
METHOD:PUBLISH
X-WR-CALNAME:OFFGRIDSHOP
X-ORIGINAL-URL:https://www.offgridshop.eu
X-WR-CALDESC:Veranstaltungen für OFFGRIDSHOP
REFRESH-INTERVAL;VALUE=DURATION:PT1H
X-Robots-Tag:noindex
X-PUBLISHED-TTL:PT1H
BEGIN:VTIMEZONE
TZID:Europe/Vienna
BEGIN:DAYLIGHT
TZOFFSETFROM:+0100
TZOFFSETTO:+0200
TZNAME:CEST
DTSTART:20230326T010000
END:DAYLIGHT
BEGIN:STANDARD
TZOFFSETFROM:+0200
TZOFFSETTO:+0100
TZNAME:CET
DTSTART:20231029T010000
END:STANDARD
BEGIN:DAYLIGHT
TZOFFSETFROM:+0100
TZOFFSETTO:+0200
TZNAME:CEST
DTSTART:20240331T010000
END:DAYLIGHT
BEGIN:STANDARD
TZOFFSETFROM:+0200
TZOFFSETTO:+0100
TZNAME:CET
DTSTART:20241027T010000
END:STANDARD
BEGIN:DAYLIGHT
TZOFFSETFROM:+0100
TZOFFSETTO:+0200
TZNAME:CEST
DTSTART:20250330T010000
END:DAYLIGHT
BEGIN:STANDARD
TZOFFSETFROM:+0200
TZOFFSETTO:+0100
TZNAME:CET
DTSTART:20251026T010000
END:STANDARD
END:VTIMEZONE
BEGIN:VEVENT
DTSTART;TZID=Europe/Vienna:20240628T080000
DTEND;TZID=Europe/Vienna:20240630T170000
DTSTAMP:20260423T122153
CREATED:20231201T171308Z
LAST-MODIFIED:20240610T193548Z
UID:38006-1719561600-1719766800@www.offgridshop.eu
SUMMARY:Adventure Allrad Austria - Messe Tulln
DESCRIPTION:Bis zu 250 nationale und internationale Aussteller präsentieren auf einer Fläche von ca. 15.000 m² Freigelände und in 4 Messehallen alles\, was das Camper Herz begehrt\, beginnend von außergewöhnlichen Expeditionsfahrzeugen bis hin zu Bordelektrik\, Aus- und Umbau von Vans und Zubehörteilen. Ausgewählte Vorträge\, Filmpräsentationen\, Workshops und Reisereportagen machen diese Messe zum Informationshotspot Nummer 1 rund um das Thema Offroadcamping\, Allrad und Outdoorabenteuer. \nOffgridshop.eu präsentiert auf der Messe sämtliche für den Camping- und Fahrzeugbereich relevanten Produkte von Victron Energy und steht mit einem großen Team mit Rat und Tat zur Seite. Besuchen Sie uns und lernen Sie die umfangreichen Möglichkeiten für Energiemanagement und Monitoring im Fahrzeug kennen.\nFür unsere Besucher haben wir uns etwas ganz besonderes einfallen lassen: Besuchen Sie unseren Messestand im Victron Energy Poloshirt und erhalten Sie kostenlose Freigetränke! Poloshirts halten wir (solange der Vorrat reicht) kostenlos bei uns am Messestand für Sie bereit. \nMehr als erwähnenswert ist ebenso der exquisite Gebrauchtwagenmarkt. Hier bieten Feuerwehren\, Händler aber auch private Verkäufer ihre Expeditionsmobile und Offroadfahrzeuge für all jene an\, die sich ihren Traum vom eigenen Fernreisemobil möglichst zeitnah erfüllen möchten. Foodtrucks und erlesene Gastronomie sorgen für das leibliche Wohl und das 750 m² große Kinderparadies lässt auch die Herzen der Kleinsten höherschlagen. \nAbends heißt es Partytime in der Camp-Area. Am Freitag\, 28.06.2024 wird Hoamspü mit ihren fantastischen Austropop-Coverhits das Tullner Publikum begeistern und am Samstag\, 29.06.2024 rockt die Band Help! A Beatles Tribute mit weltweit bekannten Hits die Konzertbühne Besucherparkplätze stehen in unmittelbarer Messenähe zur Verfügung wodurch eine bequeme Anreise und ein stressfreier Messebesuch sichergestellt ist.
URL:https://www.offgridshop.eu/event/adventure-allrad-austria-messe-tulln/
LOCATION:Messe Tulln\, Messegelände 1\, Tulln an der Donau\, 3430\, Österreich
CATEGORIES:Messe
ATTACH;FMTTYPE=image/jpeg:https://www.offgridshop.eu/wp-content/uploads/2023/12/Adventure-Allrad-Austria_TULLN_Messe.jpg
ORGANIZER;CN="Offgridshop.eu - Sailectron Services GmbH":MAILTO:info@offgridshop.eu
END:VEVENT
END:VCALENDAR