BEGIN:VCALENDAR
VERSION:2.0
PRODID:-//OFFGRIDSHOP - ECPv6.15.20//NONSGML v1.0//EN
CALSCALE:GREGORIAN
METHOD:PUBLISH
X-ORIGINAL-URL:https://www.offgridshop.eu
X-WR-CALDESC:Veranstaltungen für OFFGRIDSHOP
REFRESH-INTERVAL;VALUE=DURATION:PT1H
X-Robots-Tag:noindex
X-PUBLISHED-TTL:PT1H
BEGIN:VTIMEZONE
TZID:Europe/Vienna
BEGIN:DAYLIGHT
TZOFFSETFROM:+0100
TZOFFSETTO:+0200
TZNAME:CEST
DTSTART:20220327T010000
END:DAYLIGHT
BEGIN:STANDARD
TZOFFSETFROM:+0200
TZOFFSETTO:+0100
TZNAME:CET
DTSTART:20221030T010000
END:STANDARD
BEGIN:DAYLIGHT
TZOFFSETFROM:+0100
TZOFFSETTO:+0200
TZNAME:CEST
DTSTART:20230326T010000
END:DAYLIGHT
BEGIN:STANDARD
TZOFFSETFROM:+0200
TZOFFSETTO:+0100
TZNAME:CET
DTSTART:20231029T010000
END:STANDARD
BEGIN:DAYLIGHT
TZOFFSETFROM:+0100
TZOFFSETTO:+0200
TZNAME:CEST
DTSTART:20240331T010000
END:DAYLIGHT
BEGIN:STANDARD
TZOFFSETFROM:+0200
TZOFFSETTO:+0100
TZNAME:CET
DTSTART:20241027T010000
END:STANDARD
END:VTIMEZONE
BEGIN:VEVENT
DTSTART;TZID=Europe/Vienna:20230505T090000
DTEND;TZID=Europe/Vienna:20230505T094500
DTSTAMP:20260426T043229
CREATED:20230428T131357Z
LAST-MODIFIED:20230428T131654Z
UID:35890-1683277200-1683279900@www.offgridshop.eu
SUMMARY:PV Überschuss für das Elektrofahrzeug - EVCS
DESCRIPTION:In diesem Webinar werden wir Sie über die Wallbox Lösungen von Victron Energy (EVCS und EVCS NS) informieren. \n\nLieferumfang und Konfiguration\nManuelles\, automatisches oder geplantes Laden\nÜberschuss im Off-Grid System nutzen\n\nAnmeldung zur Teilnahme über professional.victronenergy.com \nDas Webinar wird aufgenommen und im Victron Professional Archiv zur Verfügung gestellt.
URL:https://www.offgridshop.eu/event/pv-ueberschuss-fuer-das-elektrofahrzeug-evcs/
LOCATION:Online
CATEGORIES:Webinar
ATTACH;FMTTYPE=image/jpeg:https://www.offgridshop.eu/wp-content/uploads/2022/12/Webinar-Symbol.jpg
END:VEVENT
END:VCALENDAR